BEGIN:VCALENDAR
PRODID:-//eluceo/ical//2.0/EN
VERSION:2.0
CALSCALE:GREGORIAN
BEGIN:VEVENT
UID:0c94a7ff259d14dc5905376e70a2368e
DTSTAMP:20260421T085834Z
SUMMARY:Lunch mit Referat
DESCRIPTION:Talare: Remo Trachsel Neu- Entwicklung von Landtechnik im Knona
 ueramt
URL:https://zuerich-knonaueramt.rotary2000.ch/sv/agenda/show/48177
DTSTART;TZID=Europe/Zurich:20150122T120000
DTEND;TZID=Europe/Zurich:20150122T120000
LOCATION:Kloster Kappel
CATEGORIES:Rotary
END:VEVENT
BEGIN:VTIMEZONE
TZID:Europe/Zurich
BEGIN:STANDARD
DTSTART:20150122T120000
TZNAME:CET
TZOFFSETTO:+0100
TZOFFSETFROM:+0100
END:STANDARD
END:VTIMEZONE
END:VCALENDAR
