BEGIN:VCALENDAR
PRODID:-//eluceo/ical//2.0/EN
VERSION:2.0
CALSCALE:GREGORIAN
BEGIN:VEVENT
UID:7f6bbb3eeca340c5aec77ebb1b409088
DTSTAMP:20260422T155354Z
SUMMARY:Das Asylwesen im Kanton Zürich
DESCRIPTION:Das Sozialamt vollzieht die kantonalen Aufgaben im Sozialbereic
 h. Dazu gehören die öffentliche Sozialhilfe\, der Asylbereich\, die Zusa
 tzleistungen und die Familienzulagen. Zudem fallen darunter die Kontrolle 
 und Bewilligung von sozialen Einrichtungen sowie der Betrieb von kantonale
 n IV-Heimen und -Werkstätten.\n\n(Bild Asylsuchende ( © ors.ch))\nSpreke
 rs: Ruedi Hofstetter\n\nseit Mai 2003 Amtschef des Kantonalen Sozialamts. 
URL:https://zuerich-knonaueramt.rotary2000.ch/nl/agenda/show/60992
DTSTART;TZID=Europe/Zurich:20160428T120000
DTEND;TZID=Europe/Zurich:20160428T120000
LOCATION:Restaurant Post\, 8911 Rifferswil
CATEGORIES:Rotary
END:VEVENT
BEGIN:VTIMEZONE
TZID:Europe/Zurich
BEGIN:DAYLIGHT
DTSTART:20160428T120000
TZNAME:CEST
TZOFFSETTO:+0200
TZOFFSETFROM:+0200
END:DAYLIGHT
END:VTIMEZONE
END:VCALENDAR
