BEGIN:VCALENDAR
PRODID:-//eluceo/ical//2.0/EN
VERSION:2.0
CALSCALE:GREGORIAN
BEGIN:VEVENT
UID:83fa27dc3f3ed241a8cef2f15c252eb1
DTSTAMP:20260424T085316Z
SUMMARY:Lunch mit Referat:"Wissenstransfer mit Energie"
DESCRIPTION:Viele Mitarbeiter sind seit Beginn dabei\, haben den Bau erlebt
 \, haben Komponenten gesehen\, die heute gar nicht - oder äusserst schwi
 erig - zugänglich sind. Sie alle haben Erfahrungen im Betrieb gemacht\, 
 Entwicklungen 1:1 mitgeprägt\, und sich so ein immenses Wissen und erarb
 eitet.\n\nDer bevorstehende Generationenwechsel erfordert einen Wissenstra
 nsfer.\nAufgrund demnächst stattfindenden Pensionierungen gilt es:\n\nPr
 imär das personenbezogene Wissen und das Schlüsselwissen weiterzugeben
 .\n\nSekundär soll ein Prozess geschaffen werden\, welcher einen dauernd
  stattfindenden Wissenstransfer garantiert.\n\n© Friedrich Preisig Stv. L
 eiter HR\, 2015\nWebsite: http://www.schwiizerpöschtli.ch/\nSprekers: Cul
 ex Preisig\, HR Projektleiter IT\, Kernkraftwerk Leibstadt
URL:https://zuerich-knonaueramt.rotary2000.ch/nl/agenda/show/58376
DTSTART;TZID=Europe/Zurich:20160421T120000
DTEND;TZID=Europe/Zurich:20160421T120000
LOCATION:Restaurant Post\, 8911 Rifferswil
CATEGORIES:Rotary
END:VEVENT
BEGIN:VTIMEZONE
TZID:Europe/Zurich
BEGIN:DAYLIGHT
DTSTART:20160421T120000
TZNAME:CEST
TZOFFSETTO:+0200
TZOFFSETFROM:+0200
END:DAYLIGHT
END:VTIMEZONE
END:VCALENDAR
