BEGIN:VCALENDAR
PRODID:-//eluceo/ical//2.0/EN
VERSION:2.0
CALSCALE:GREGORIAN
BEGIN:VEVENT
UID:dc244c30cf626dca6ea8174fd6a496d6
DTSTAMP:20260423T021728Z
SUMMARY:Lunch mit Referat: Schwingsport 
DESCRIPTION:Relatore/i: Anja Bernhard
URL:https://zuerich-knonaueramt.rotary2000.ch/it/agenda/show/60996
DTSTART;TZID=Europe/Zurich:20160526T120000
DTEND;TZID=Europe/Zurich:20160526T120000
LOCATION:Restaurant Post\, 8911 Rifferswil
CATEGORIES:Rotary
END:VEVENT
BEGIN:VTIMEZONE
TZID:Europe/Zurich
BEGIN:DAYLIGHT
DTSTART:20160526T120000
TZNAME:CEST
TZOFFSETTO:+0200
TZOFFSETFROM:+0200
END:DAYLIGHT
END:VTIMEZONE
END:VCALENDAR
