BEGIN:VCALENDAR
PRODID:-//eluceo/ical//2.0/EN
VERSION:2.0
CALSCALE:GREGORIAN
BEGIN:VEVENT
UID:d82b9c377b87982f5bacd9b2c65cb419
DTSTAMP:20260419T122509Z
SUMMARY:Kulturpark-Besuch - abgesagt!  Plauderlunch
DESCRIPTION:Der Partneranlass mit dem Besuch des Kulturparks ist auf den He
 rbst verschoben worden.\n\nAm Mittag findet nun ein Plauderlunch in der Po
 st statt.
URL:https://zuerich-knonaueramt.rotary2000.ch/fr/agenda/show/62049
DTSTART;TZID=Europe/Zurich:20160512T120000
DTEND;TZID=Europe/Zurich:20160512T120000
LOCATION:Restaurant Post\, 8911 Rifferswil
CATEGORIES:Rotary
END:VEVENT
BEGIN:VTIMEZONE
TZID:Europe/Zurich
BEGIN:DAYLIGHT
DTSTART:20160512T120000
TZNAME:CEST
TZOFFSETTO:+0200
TZOFFSETFROM:+0200
END:DAYLIGHT
END:VTIMEZONE
END:VCALENDAR
