BEGIN:VCALENDAR
PRODID:-//eluceo/ical//2.0/EN
VERSION:2.0
CALSCALE:GREGORIAN
BEGIN:VEVENT
UID:3710a39861703dd48c5a0417e34fde92
DTSTAMP:20260424T082633Z
SUMMARY:Probe-Essen
DESCRIPTION:Site internet: http://www.poestli-rifferswil.ch\nConférencier(
 s): Vito Laubscher\, der neue Chef in der Post\, stellt sich vor:\n"I bi d
 er Vito - dir siit ja bi miir ir Schtube - hie geiz per Du am Eifachschte"
URL:https://zuerich-knonaueramt.rotary2000.ch/fr/agenda/show/56366
DTSTART;TZID=Europe/Zurich:20151112T120000
DTEND;TZID=Europe/Zurich:20151112T120000
LOCATION:Restaurant Post\, 8911 Rifferswil
CATEGORIES:Rotary
END:VEVENT
BEGIN:VTIMEZONE
TZID:Europe/Zurich
BEGIN:STANDARD
DTSTART:20151112T120000
TZNAME:CET
TZOFFSETTO:+0100
TZOFFSETFROM:+0100
END:STANDARD
END:VTIMEZONE
END:VCALENDAR
