BEGIN:VCALENDAR
PRODID:-//eluceo/ical//2.0/EN
VERSION:2.0
CALSCALE:GREGORIAN
BEGIN:VEVENT
UID:6f1322310f8019348b4bfec2b1598c52
DTSTAMP:20260422T081232Z
SUMMARY:Lunch mit Referat von Philipp Locher\, Präsident CCL: "Curling - e
 ine faszinierende Sportart"
DESCRIPTION:Conférencier(s): Philipp Locher\, Präsident CCL
URL:https://zuerich-knonaueramt.rotary2000.ch/fr/agenda/show/52179
DTSTART;TZID=Europe/Zurich:20150903T120000
DTEND;TZID=Europe/Zurich:20150903T120000
LOCATION:Kloster Kappel
CATEGORIES:Rotary
END:VEVENT
BEGIN:VTIMEZONE
TZID:Europe/Zurich
BEGIN:DAYLIGHT
DTSTART:20150903T120000
TZNAME:CEST
TZOFFSETTO:+0200
TZOFFSETFROM:+0200
END:DAYLIGHT
END:VTIMEZONE
END:VCALENDAR
